16.97056195813566
0.04781547226075
0.11632266672504
-17.10392209825001
220403.44642376358000
9234823.50839425250000
