16.94354845420979
-0.00516831600406
-0.02019742685266
-16.97600270023934
137191.12083908616000
9108597.47437262910000
