16.93760020740761
0.02163705963120
-0.01106659357198
-16.96850450246559
183914.81906494300000
9218359.34395562670000
