16.93564673205264
0.00494624951752
-0.02009281972738
-16.97101297907358
142413.59552093397000
9174944.38343175690000
