16.93020941219527
-0.01234349497934
-0.02273145214926
-16.96717437698296
187604.01916074942000
9288092.57409494560000
