16.97600348698196
0.00000000000000
0.00000000000000
-16.97600348698196
137089.26481816426000
9108597.47437262910000
