16.97101369987274
0.00000000000000
0.00000000000000
-16.97101369987274
142311.76943873474000
9174944.38343175690000
