16.96851829749859
0.00000000000000
0.00000000000000
-16.96851829749859
183863.91351005051000
9218427.21802881730000
