16.96717886688342
0.00000000000000
0.00000000000000
-16.96717886688342
187502.21608754809000
9288092.57409494560000
