16.94879246145620
0.00000000000000
0.00000000000000
-16.94879246145620
137507.95794602163000
9109677.15010456180000
