16.94749998711691
0.00000000000000
0.00000000000000
-16.94749998711691
184371.18791142449000
9218502.44350361640000
