16.95269518766251
0.00000000000000
0.00000000000000
-16.95269518766251
187803.45564390754000
9287698.63355768660000
