16.86564507468533
-0.01944506658846
-0.02527188714911
-16.94878130695242
137626.59949325182000
9109677.15010456180000
