16.87124267583842
0.01442801194031
-0.00325137629969
-16.95128582101521
141718.49842307004000
9175996.02121641110000
