16.87225704864028
0.00241263195214
-0.00107046736622
-16.94749981538677
184371.18791142452000
9218502.44350361450000
