16.86230360248784
0.01394718698833
0.00933317664649
-16.95268945040198
187803.45564390754000
9287647.77547212320000
