42.45696382952129
0.00000000000000
0.00000000000000
-42.45696382952129
72595.46527188672900
9201768.54534380700000
