42.56444690990058
0.00000000000000
0.00000000000000
-42.56444690990058
181929.79862072767000
9155270.36149591580000
