42.38608615053377
0.00000000000000
0.00000000000000
-42.38608615053377
181571.75079846787000
9153257.64892945440000
