42.43480554568704
0.01766772364628
-0.04986850430607
-42.53078621234864
156419.69753788569000
9292883.03261946330000
