42.34889176181581
0.02927830926393
0.00662244976074
-42.39714393834234
73021.67577008261300
9202307.49992912640000
