42.40378262554405
-0.01584035972050
0.05940520798832
-42.34287850297124
185269.68390023304000
9153811.83771605980000
