42.35688774714216
-0.02037750721780
-0.04568125568334
-42.45239712075453
151992.86588609917000
9289678.42015562210000
