42.42705996001588
0.21173228075591
0.09960270613137
-42.44477658306856
162901.77114522262000
9344668.84213377160000
