42.39090040186480
-0.03269345199127
-0.01098573925246
-42.34526171535153
324344.11106984777000
9345063.58287590740000
