42.31861420121847
-0.13610980349692
-0.18558787563078
-42.42534811564377
655537.15382234694000
9123968.39643542100000
