42.42000066220157
0.13638972073005
0.15056095250001
-42.46159645128250
160002.46853483326000
9233814.27325063010000
