42.40630716645759
-0.10293765598237
-0.22449427975394
-42.39486344779702
327102.16931600013000
9235289.53500182000000
