42.33281800810303
-0.26441728012811
-0.32724267369034
-42.34001316200111
655067.35565699032000
9234064.23346241560000
