42.44530468432662
0.00000000000000
0.00000000000000
-42.44530468432662
162901.77114522262000
9345560.19353214280000
