42.39090182535974
0.00000000000000
0.00000000000000
-42.39090182535974
324344.11106984777000
9345063.58287590560000
