42.48963910327843
0.00000000000000
0.00000000000000
-42.48963910327843
-6929.19517613993410
9124110.11860622650000
