42.46181549754424
0.00000000000000
0.00000000000000
-42.46181549754424
160002.46853483326000
9234408.73866759610000
