42.40903228941084
0.00000000000000
0.00000000000000
-42.40903228941084
-9323.83741345760250
9234284.88476732370000
