42.51938482304187
0.00000000000000
0.00000000000000
-42.51938482304187
67620.39490731644000
9203404.00845155120000
