42.51933969174038
0.01351852093116
-0.06195085402169
-42.42630941787665
67918.03060107772800
9203404.00845154930000
