42.51676494380413
0.00000000000000
0.00000000000000
-42.51676494380413
181845.86500959523000
9154893.06080327370000
