16.95129196118337
0.00000000000000
0.00000000000000
-16.95129196118337
141718.49842307004000
9176046.87509229410000
