5.00000000000000
0.00000000000000
0.00000000000000
-5.00000000000000
355502.50000000000000
9064497.50000000000000
