0,8721290000
0,0000000000
0,0000000000
-0,8721290000
396315,0131395254
8990738,9675849620
