0.8724020000
0.0000000000
0.0000000000
-0.8724020000
396308.2319681357
8993133.7952911071
