0.7788360000
0.0000000000
0.0000000000
-0.7788360000
396561.4779723074
8994957.4815309010
