0.6273300000
0.0000000000
0.0000000000
-0.6273300000
410500.7371028545
9044034.0608559754
