0.4630190000
0.0000000000
0.0000000000
-0.4630190000
411857.2525754952
9038255.5770700835
