0.5405470000
0.0000000000
0.0000000000
-0.5405470000
408197.6763706288
9046751.3645320386
