1.0833580000
0.0000000000
0.0000000000
-1.0833580000
414457.8111508878
9045808.5907331742
