0.2626550000
0.0000000000
0.0000000000
-0.2626550000
413800.6222356407
9041771.7241018489
