0.3000
0.0000
0.0000
-0.3000
405999.9000
9635000.1000
