0.3000
0.0000
0.0000
-0.3000
405000.0000
9636000.0000
