0.3000
0.0000
0.0000
-0.3000
402999.9000
9636000.0000
